Workbook

Sheet COVER (2)
C2: บัญชีปริมาณงาน และ ราคา Client : Project: : งานปรับปรุงและตกแต่งบ้านพักอาศัย หมู่บ้านโนเบิล อนาวานา Location : แขวงศาลาธรรมสพน์ เขตทวีวัฒนา กรุงเทพมหานคร | E2: No. | F2: 2023-0032
C3: โครงการ | D3: ปรับปรุงบ้านพักอาศัย2ชั้น หมู่บ้าน Nobel Anawana | E3: Date | F3: 45091
C4: Item | D4: Description | F4: Qty | G4: Unit | H4: Total | I4: Remarks
H5: 45092
D6: ราคาประมาณการ
C7: 1 | D7: งานปรับปรุงโรงรถ | F7: 1 | G7: งาน
C8: 2 | D8: งานปรับปรุงซุ้มประตูรั้วทางเดินเข้าบ้าน | F8: 1 | G8: งาน
C9: 3 | D9: งานปรับปรุงรายละเอียดอาคารทั่วไป | F9: 1 | G9: งาน
C10: 4 | D10: งานปรับปรุงรายละเอียดการตกแต่งภายใน | F10: 1 | G10: งาน
C11: 5 | D11: งานปรับปรุงระบบไฟฟ้า | F11: 1 | G11: งาน
C12: 6 | D12: งานปรับปรุงระบบสุขาภิบาล | F12: 1 | G12: งาน
C13: 7 | D13: งานอื่นๆ | F13: 1 | G13: งาน
C14: 8 | D14: งานเตรียมการ | F14: 1 | G14: งาน
C17: * | D17: รวมงานทุกอย่างตามแบบและ TOR
C18: * | D18: รวมงานเพิ่มประตู+หน้าต่างอลูมิเนียม
C19: * | D19: รวมงานทำสีโต๊ะวาง TV ใหญ่ 2 ตัว เล็ก 1 ตัว
C20: * | D20: หักงานลดมอเตอร์ประตูหน้า
D21: รวมเบื้องต้น | H21: =SUM(H15:H20) -> 0
D22: Over Head & Profit | H22: 11550
D23: รวมทั้งหมด | H23: =H21+H22 -> 11550
D24: ส่วนลดพิเศษ | H24: 50000
D25: Total price | H25: =H23-H24 -> -38450
D28: ตัดออก | H28: =SUM(H29:H32) -> 50000
C29: 1 | D29: - D8 (ยกเลิกงานซ่อม เปลี่ยนเป็นงานทำใหม่) | H29: 4000
C30: 2 | D30: - D9 (ยกเลิกงานซ่อม เปลี่ยนเป็นงานทำใหม่) | H30: 8000
C31: 3 | D31: - W7 (ยกเลิกงานซ่อม เปลี่ยนเป็นงานทำใหม่) | H31: 18000
C32: 4 | D32: ติดตั้งมอเตอร์ประตุ (ยกเลิก เจ้าของดำเนินการเอง) | H32: 20000
D33: เสนอเพิ่ม | H33: =SUM(H34:H39) -> 170000 | L33: =SUM(L34:L38) -> 136000 | N33: 30000
C34: 1 | D34: - โถงนั่งเล่น (D8) | H34: =L34+N34 -> 28073.529 | L34: 23000 | M34: =L34/L$33 -> 0.16911765 | N34: =N$33*M34 -> 5073.5294
C35: 2 | D35: - ห้องพระ,ห้องนอนเจ้าของบ้าน (D9) | H35: =L35+N35 -> 56147.059 | L35: 46000 | M35: =L35/L$33 -> 0.33823529 | N35: =N$33*M35 -> 10147.059
C36: 3 | D36: - หน้าต่างบานเลื่อน ชั้น 2 (W7) | H36: =L36+N36 -> 46382.353 | L36: 38000 | M36: =L36/L$33 -> 0.27941176 | N36: =N$33*M36 -> 8382.3529
C37: 4 | D37: - ช่องแสง | H37: =L37+N37 -> 21970.588 | L37: 18000 | M37: =L37/L$33 -> 0.13235294 | N37: =N$33*M37 -> 3970.5882
C38: 5 | D38: - ช่องแสง ครัว | H38: =L38+N38 -> 13426.471 | L38: 11000 | M38: =L38/L$33 -> 0.080882353 | N38: =N$33*M38 -> 2426.4706
C39: 8 | D39: Over Head & Profit (ส่วนเพิ่ม) | H39: 4000
D41: Balance | H41: =H33-H28 -> 120000
D43: Total | H43: =H25+H41 -> 81550

Sheet BILL OF QUANTITY_02
C2: บัญชีปริมาณงานและราคา (version ; 24 April 2023 : 10:00) Project: : งานปรับปรุงและตกแต่งบ้านพักอาศัย หมู่บ้านโนเบิล อนาวานา
I3: Area | J3: ='[1]List(2)'!$AD$118 -> 280.75 | Q3: Area | R3: ='[1]List(2)'!$AD$118 -> 280.75
I4: Date | Q4: Date
C5: Item | D5: Description | E5: Qty | F5: Unit | G5: Units Price (THB) | J5: Amount | K5: Remarks | N5: cost/sqm | O5: Units Price (THB) | R5: Amount
G6: Material | H6: Labor | I6: Total | M6: =SUM(M27:M172) -> 2095950 | N6: =SUM(N27:N172) -> 7135.2469 | O6: Material | P6: Labor | Q6: Total | S6: =SUM(S27:S172) -> 728750 | T6: =SUM(T27:T172) -> 2595.7257
D7: ราคาประมาณการ
C8: 1 | D8: งานปรับปรุงโรงรถ | I8: =J8/J$22 -> 0.038505338 | J8: ='BILL OF QUANTITY_02'!J26 -> 81150 | K8: =J8/J$3 -> 289.0472 | Q8: =R8/R$22 -> 0.038505338 | R8: ='BILL OF QUANTITY_02'!R26 -> 81150
C9: 3 | D9: งานปรับปรุงรายละเอียดอาคารทั่วไป | I9: =J9/J$22 -> 0.60014235 | J9: ='BILL OF QUANTITY_02'!J39 -> 1264800 | K9: =J9/J$3 -> 4505.0757 | Q9: =R9/R$22 -> 0.60014235 | R9: ='BILL OF QUANTITY_02'!R39 -> 1264800
C10: 4 | D10: งานปรับปรุงรายละเอียดการตกแต่งภายใน | I10: =J10/J$22 -> 0.11862396 | J10: =J102 -> 250000 | K10: =J10/J$3 -> 890.47195 | Q10: =R10/R$22 -> 0.11862396 | R10: =R102 -> 250000
C11: 5 | D11: งานปรับปรุงระบบไฟฟ้า | I11: =J11/J$22 -> 0.071411625 | J11: =J118 -> 150500 | K11: =J11/J$3 -> 536.06411 | Q11: =R11/R$22 -> 0.071411625 | R11: =R118 -> 150500
C12: 6 | D12: งานปรับปรุงระบบสุขาภิบาล | I12: =J12/J$22 -> 0.031553974 | J12: 66500 | K12: =J12/J$3 -> 236.86554 | Q12: =R12/R$22 -> 0.031553974 | R12: 66500
C13: 7 | D13: งานอื่นๆ | I13: =J13/J$22 -> 0.048398577 | J13: ='BILL OF QUANTITY_02'!J149 -> 102000 | K13: =J13/J$3 -> 363.31256 | Q13: =R13/R$22 -> 0.048398577 | R13: ='BILL OF QUANTITY_02'!R149 -> 102000
C14: 8 | D14: งานเตรียมการ | I14: =J14/J$22 -> 0.085883749 | J14: ='BILL OF QUANTITY_02'!J159 -> 181000 | K14: =J14/J$3 -> 644.70169 | Q14: =R14/R$22 -> 0.085883749 | R14: ='BILL OF QUANTITY_02'!R159 -> 181000
C16: * | D16: รวมงานทุกอย่างตามแบบและ TOR
C17: * | D17: รวมงานเพิ่มประตู+หน้าต่างอลูมิเนียม
C18: * | D18: รวมงานทำสีโต๊ะวาง TV ใหญ่ 2 ตัว เล็ก 1 ตัว
C19: * | D19: หักงานลดมอเตอร์ประตูหน้า
D20: รวมเบื้องต้น | J20: =SUM(J8:J19) -> 2095950 | K20: =J20/J$3 -> 7465.5387 | R20: =SUM(R8:R19) -> 2095950
D21: Over Head & Profit | J21: 11550 | R21: 11550
D22: รวมทั้งหมด | J22: =J20+J21 -> 2107500 | K22: =J22/J$3 -> 7506.6785 | R22: =R20+R21 -> 2107500
C26: 1 | D26: งานปรับปรุงโรงรถ | J26: =SUM(J27:J37) -> 81150 | R26: =SUM(R27:R37) -> 81150
C27: 1.1 | D27: งานรื้อถอน+ขนทิ้ง | E27: 1 | F27: งาน | G27: 5000 | H27: 15000 | I27: =G27+H27 -> 20000 | J27: =E27*I27 -> 20000 | M27: =SUM(J27:J37) -> 81150 | N27: =M27/J3 -> 289.0472 | O27: 5000 | P27: 15000 | Q27: =O27+P27 -> 20000 | R27: =$E27*Q27 -> 20000
C28: 1.2 | D28: งานสีโครงหลังคาเดิม
D29: - ขัด-รอกสีเดิม | E29: 25 | F29: ตร.ม. | G29: 50 | H29: 150 | I29: =G29+H29 -> 200 | J29: =E29*I29 -> 5000 | O29: 50 | P29: 150 | Q29: =O29+P29 -> 200 | R29: =$E29*Q29 -> 5000
D30: - ทาสีใหม่ (รองพื้นกันสนิม1เที่ยว+ทับหน้า2เที่ยว) | E30: 25 | F30: ตร.ม. | G30: 200 | H30: 200 | I30: =G30+H30 -> 400 | J30: =E30*I30 -> 10000 | O30: 200 | P30: 200 | Q30: =O30+P30 -> 400 | R30: =$E30*Q30 -> 10000
C31: 1.3 | D31: งานมุงหลังคาใหม่
D32: - หลังคาเมทัลชีท ชนิด PU โฟม หนา 2 นิ้ว ปิดด้วยฟลอย | E32: 25 | F32: ตร.ม. | G32: 420 | H32: 250 | I32: =G32+H32 -> 670 | J32: =E32*I32 -> 16750 | O32: 420 | P32: 250 | Q32: =O32+P32 -> 670 | R32: =$E32*Q32 -> 16750
C33: 1.3 | D33: งานฝ้าเพดาน | E33: 25 | F33: ตร.ม. | G33: 250 | H33: 300 | I33: =G33+H33 -> 550 | J33: =E33*I33 -> 13750 | O33: 250 | P33: 300 | Q33: =O33+P33 -> 550 | R33: =$E33*Q33 -> 13750
C34: 1.4 | D34: งานทาสีฝ้า | E34: 25 | F34: ตร.ม. | G34: 150 | H34: 100 | I34: =G34+H34 -> 250 | J34: =E34*I34 -> 6250 | O34: 150 | P34: 100 | Q34: =O34+P34 -> 250 | R34: =$E34*Q34 -> 6250
C35: 1.5 | D35: งานระบไฟฟ้า-แสงสว่าง
D36: - งานเดินท่อ-ร้อยสาย | E36: 1 | F36: เหมา | G36: 3500 | H36: 3500 | I36: =G36+H36 -> 7000 | J36: =E36*I36 -> 7000 | O36: 3500 | P36: 3500 | Q36: =O36+P36 -> 7000 | R36: =$E36*Q36 -> 7000
D37: - งานดวงโคมDownlight | E37: 4 | F37: ดวง | G37: 350 | H37: 250 | I37: =G37+H37 -> 600 | J37: =E37*I37 -> 2400 | O37: 350 | P37: 250 | Q37: =O37+P37 -> 600 | R37: =$E37*Q37 -> 2400
C39: 3 | D39: งานปรับปรุงรายละเอียดอาคารทั่วไป | J39: =SUM(J40:J101) -> 1264800 | R39: =SUM(R40:R101) -> 1264800
C40: 3.1 | D40: งานปรับปรุงสภาพกระเบื้องมุงหลังคา และทาสีหลังคา
D41: - งานซ่อมกระเบื้องชำรุด | E41: 30 | F41: จุด | G41: 800 | H41: 600 | I41: =G41+H41 -> 1400 | J41: =E41*I41 -> 42000 | K41: pro sum | M41: =SUM(J41:J44) -> 154000 | N41: =M41/$J$3 -> 548.53072 | O41: 800 | P41: 600 | Q41: =O41+P41 -> 1400 | R41: =$E41*Q41 -> 42000 | S41: =M41 -> 154000 | T41: =S41/$J$3 -> 548.53072
D42: - งานซ่อม-เปลี่ยน ตะเข้ราง | E42: 20 | F42: เมตร | G42: 800 | H42: 600 | I42: =G42+H42 -> 1400 | J42: =E43*I42 -> 56000 | K42: pro sum | O42: 800 | P42: 600 | Q42: =O42+P42 -> 1400 | R42: =$E42*Q42 -> 28000
D43: - งานซ่อม-เปลี่ยน งานไม้ เครื่องหลังคา | E43: 40 | F43: เมตร | G43: 800 | H43: 600 | I43: =G43+H43 -> 1400 | J43: =E44*I43 -> 28000 | K43: pro sum | O43: 800 | P43: 600 | Q43: =O43+P43 -> 1400 | R43: =$E43*Q43 -> 56000
D44: - งานเก็บปูนทรายครอบกระเบื้อง-ทาRoof seal | E44: 20 | F44: ตรม | G44: 800 | H44: 600 | I44: =G44+H44 -> 1400 | J44: =E44*I44 -> 28000 | O44: 800 | P44: 600 | Q44: =O44+P44 -> 1400 | R44: =$E44*Q44 -> 28000
D45: - งานทำความสะอากแผ่นกระเบื้อง-ทาสีใหม่ | E45: 240 | F45: ตรม | G45: 200 | H45: 350 | I45: =G45+H45 -> 550 | J45: =E45*I45 -> 132000 | M45: =J45 -> 132000 | N45: =J45/J3 -> 470.16919 | O45: 200 | P45: 350 | Q45: =O45+P45 -> 550 | R45: =$E45*Q45 -> 132000
C47: 3.2 | D47: งานสีอาคาร
...

Sheet BILL OF QUANTITY_02 (2)
C2: บัญชีปริมาณงานและราคา Project : งานปรับปรุงและตกแต่งบ้านพักอาศัย | H2: Area | J2: ='[1]List(2)'!$AD$118 -> 280.75 | N2: ='[1]List(2)'!$AD$118 -> 280.75 | S2: Area | U2: ='[1]List(2)'!$AD$118 -> 280.75
H3: Date | S3: Date
C5: Item | D5: Description | E5: Unit | F5: Units Price (THB) | I5: Scope#1 | M5: Scope#2 | Q5: Units Price (THB) | T5: Scope#3
F6: Material | G6: Labor | H6: Total | I6: Qty | J6: Amount | L6: % | M6: Qty | N6: Amount | P6: % | Q6: Material | R6: Labor | S6: Total | T6: Qty | U6: Amount | W6: %
C7: 1 | D7: งานปรับปรุงรายละเอียดอาคารทั่วไป | J7: ='BILL OF QUANTITY_02 (2)'!J22 -> 897200 | K7: =J7/J$2 -> 3195.7257 | L7: =J7/J$20 -> 0.45981842 | N7: ='BILL OF QUANTITY_02 (2)'!N22 -> 732500 | O7: =N7/N$2 -> 2609.0828 | P7: =N7/N$20 -> 0.53234979 | U7: ='BILL OF QUANTITY_02 (2)'!U22 -> 444194 | V7: =U7/U$2 -> 1582.1692 | W7: =U7/U$20 -> 0.57666106
C8: 1.1 | D8: =D23 -> งานหลังคา | J8: =J23 -> 244000 | K8: =J8/J$2 -> 869.10062 | L8: =J8/J$20 -> 0.12505093 | N8: =N23 -> 112000 | O8: =N8/N$2 -> 398.93143 | P8: =N8/N$20 -> 0.081396828 | U8: =U23 -> 42000 | V8: =U8/U$2 -> 149.59929 | W8: =U8/U$20 -> 0.054525195
C9: 1.2 | D9: =D30 -> งานสีอาคาร | J9: =J30 -> 354150 | K9: =J9/J$2 -> 1261.4426 | L9: =J9/J$20 -> 0.18150322 | N9: =N30 -> 354150 | O9: =N9/N$2 -> 1261.4426 | P9: =N9/N$20 -> 0.25738113 | U9: =U30 -> 354150 | V9: =U9/U$2 -> 1261.4426 | W9: =U9/U$20 -> 0.45976424
C10: 1.3 | D10: =D38 -> งานปรับปรุงชุดประตุ-หน้าต่าง | J10: =J38 -> 230000 | K10: =J10/J$2 -> 819.23419 | L10: =J10/J$20 -> 0.11787588 | N10: =N38 -> 144000 | O10: =N10/N$2 -> 512.91184 | P10: =N10/N$20 -> 0.10465306 | U10: =U38 -> 37444 | V10: =U10/U$2 -> 133.37133 | W10: =U10/U$20 -> 0.04861051
C11: 1.4 | D11: =D58 -> งานเปลี่ยนสุขภัณฑ์ และ อุปกรณ์ ประกอบ | J11: =J58 -> 111550 | K11: =J11/J$2 -> 397.32858 | L11: =J11/J$20 -> 0.0571698 | N11: =N58 -> 98850 | O11: =N11/N$2 -> 352.09261 | P11: =N11/N$20 -> 0.071839968 | U11: =U58 -> 7100 | V11: =U11/U$2 -> 25.289403 | W11: =U11/U$20 -> 0.0092173544
C12: 1.5 | D12: =D73 -> งานรายละเอียดอาคารอื่นๆ | J12: =J73 -> 79500 | K12: =J12/J$2 -> 283.17008 | L12: =J12/J$20 -> 0.040744053 | N12: =N73 -> 79500 | O12: =N12/N$2 -> 283.17008 | P12: =N12/N$20 -> 0.057777213 | U12: =U73 -> 24500 | V12: =U12/U$2 -> 87.266251 | W12: =U12/U$20 -> 0.031806364
C13: 2 | D13: งานปรับปรุงรายละเอียดการตกแต่งภายใน | J13: =J78 -> 250000 | K13: =J13/J$2 -> 890.47195 | L13: =J13/J$20 -> 0.12812595 | N13: =N78 -> 51000 | O13: =N13/N$2 -> 181.65628 | P13: =N13/N$20 -> 0.037064627
C14: 3 | D14: งานปรับปรุงระบบไฟฟ้า | J14: =J93 -> 135000 | K14: =J14/J$2 -> 480.85485 | L14: =J14/J$20 -> 0.069188015 | N14: =N93 -> 135000 | O14: =N14/N$2 -> 480.85485 | P14: =N14/N$20 -> 0.098112248 | U14: =U93 -> 26620 | V14: =U14/U$2 -> 94.817453 | W14: =U14/U$20 -> 0.034558588
C15: 4 | D15: งานปรับปรุงระบบสุขาภิบาล | J15: =J111 -> 66500 | K15: =J15/J$2 -> 236.86554 | L15: =J15/J$20 -> 0.034081503 | N15: =N111 -> 50000 | O15: =N15/N$2 -> 178.09439 | P15: =N15/N$20 -> 0.03633787 | U15: =U111 -> 10000 | V15: =U15/U$2 -> 35.618878 | W15: =U15/U$20 -> 0.012982189
C16: 5 | D16: งานอื่นๆ | J16: ='BILL OF QUANTITY_02 (2)'!J117 -> 82000 | K16: =J16/J$2 -> 292.0748 | L16: =J16/J$20 -> 0.042025313 | N16: ='BILL OF QUANTITY_02 (2)'!N117 -> 28000 | O16: =N16/N$2 -> 99.732858 | P16: =N16/N$20 -> 0.020349207 | U16: ='BILL OF QUANTITY_02 (2)'!U117 -> 24000 | V16: =U16/U$2 -> 85.485307 | W16: =U16/U$20 -> 0.031157254
C17: 6 | D17: งานเตรียมการ | J17: ='BILL OF QUANTITY_02 (2)'!J124 -> 144000 | K17: =J17/J$2 -> 512.91184 | L17: =J17/J$20 -> 0.073800549 | N17: ='BILL OF QUANTITY_02 (2)'!N124 -> 144000 | O17: =N17/N$2 -> 512.91184 | P17: =N17/N$20 -> 0.10465306 | U17: ='BILL OF QUANTITY_02 (2)'!U124 -> 144000 | V17: =U17/U$2 -> 512.91184 | W17: =U17/U$20 -> 0.18694353
D18: รวมเบื้องต้น | J18: =SUM(J8:J17) -> 1696700 | K18: =J18/J2 -> 6043.455 | N18: =SUM(N8:N17) -> 1196500 | O18: =N18/N2 -> 4261.7988 | U18: =SUM(U8:U17) -> 669814 | V18: =U18/U2 -> 2385.8023
D19: Over Head & Profit | I19: 0.15 | J19: =J18*I19 -> 254505 | K19: =J19/J2 -> 906.51825 | M19: 0.15 | N19: =N18*M19 -> 179475 | O19: =N19/N2 -> 639.26981 | T19: 0.15 | U19: =U18*T19 -> 100472.1 | V19: =U19/U2 -> 357.87035 | Y19: 175
D20: รวมทั้งหมด | J20: =J18+J19 -> 1951205 | K20: =J20/J2 -> 6949.9733 | N20: =N18+N19 -> 1375975 | O20: =N20/N2 -> 4901.0686 | U20: =U18+U19 -> 770286.1 | V20: =U20/U2 -> 2743.6727 | Y20: =Y19*V20 -> 480142.72
C22: 1 | D22: งานปรับปรุงรายละเอียดอาคารทั่วไป | J22: =SUM(J24:J77)/2 -> 897200 | N22: =SUM(N24:N77)/2 -> 732500 | U22: =SUM(U24:U77)/2 -> 444194
C23: 1.1 | D23: งานหลังคา | J23: =SUM(J25:J29) -> 244000 | N23: =SUM(N25:N29) -> 112000 | U23: =SUM(U25:U29) -> 42000
D24: งานปรับปรุงสภาพกระเบื้องมุงหลังคา และทาสีหลังคา
D25: - งานซ่อมกระเบื้องชำรุด | E25: จุด | F25: 800 | G25: 600 | H25: =F25+G25 -> 1400 | I25: 20 | J25: =I25*$H25 -> 28000 | M25: 20 | N25: =M25*$H25 -> 28000 | Q25: 800 | R25: 600 | S25: =Q25+R25 -> 1400 | T25: 10 | U25: =T25*$H25 -> 14000
D26: - งานซ่อม-เปลี่ยน ตะเข้ราง | E26: เมตร | F26: 800 | G26: 600 | H26: =F26+G26 -> 1400 | I26: 20 | J26: =I26*$H26 -> 28000 | M26: 20 | N26: =M26*$H26 -> 28000 | Q26: 800 | R26: 600 | S26: =Q26+R26 -> 1400 | T26: 10 | U26: =T26*$H26 -> 14000
D27: - งานซ่อม-เปลี่ยน งานไม้ เครื่องหลังคา | E27: เมตร | F27: 800 | G27: 600 | H27: =F27+G27 -> 1400 | I27: 20 | J27: =I27*$H27 -> 28000 | M27: 20 | N27: =M27*$H27 -> 28000 | Q27: 800 | R27: 600 | S27: =Q27+R27 -> 1400 | T27: 10 | U27: =T27*$H27 -> 14000
D28: - งานเก็บปูนทรายครอบกระเบื้อง-ทาRoof seal | E28: ตรม | F28: 800 | G28: 600 | H28: =F28+G28 -> 1400 | I28: 20 | J28: =I28*$H28 -> 28000 | M28: 20 | N28: =M28*$H28 -> 28000 | Q28: 800 | R28: 600 | S28: =Q28+R28 -> 1400 | U28: =T28*$H28 -> 0
D29: - งานทำความสะอากแผ่นกระเบื้อง-ทาสีใหม่ | E29: ตรม | F29: 200 | G29: 350 | H29: =F29+G29 -> 550 | I29: 240 | J29: =I29*$H29 -> 132000 | N29: =M29*$H29 -> 0 | Q29: 200 | R29: 350 | S29: =Q29+R29 -> 550 | U29: =T29*$H29 -> 0
C30: 1.2 | D30: งานสีอาคาร | J30: =SUM(J31:J37) -> 354150 | N30: =SUM(N31:N37) -> 354150 | U30: =SUM(U31:U37) -> 354150
D31: งานรอกWallpaper | E31: ตรม. | F31: 20 | G31: 100 | H31: =F31+G31 -> 120 | I31: 140 | J31: =I31*$H31 -> 16800 | M31: 140 | N31: =M31*$H31 -> 16800 | Q31: 20 | R31: 100 | S31: =Q31+R31 -> 120 | T31: 140 | U31: =T31*$H31 -> 16800
D32: สีผนังปูนฉาบภายใน | E32: ตรม. | F32: 150 | G32: 100 | H32: =F32+G32 -> 250 | I32: 480 | J32: =I32*$H32 -> 120000 | M32: 480 | N32: =M32*$H32 -> 120000 | Q32: 150 | R32: 100 | S32: =Q32+R32 -> 250 | T32: 480 | U32: =T32*$H32 -> 120000
D33: สีผนังปูนฉาบภายนอก | E33: ตรม. | F33: 150 | G33: 120 | H33: =F33+G33 -> 270 | I33: 320 | J33: =I33*$H33 -> 86400 | M33: 320 | N33: =M33*$H33 -> 86400 | Q33: 150 | R33: 120 | S33: =Q33+R33 -> 270 | T33: 320 | U33: =T33*$H33 -> 86400
D34: สีฝ้าเพดาน | E34: ตรม. | F34: 150 | G34: 100 | H34: =F34+G34 -> 250 | I34: 275 | J34: =I34*$H34 -> 68750 | M34: 275 | N34: =M34*$H34 -> 68750 | Q34: 150 | R34: 100 | S34: =Q34+R34 -> 250 | T34: 275 | U34: =T34*$H34 -> 68750
D35: สีราวกันตก | E35: ตรม. | F35: 150 | G35: 150 | H35: =F35+G35 -> 300 | I35: 15 | J35: =I35*$H35 -> 4500 | M35: 15 | N35: =M35*$H35 -> 4500 | Q35: 150 | R35: 150 | S35: =Q35+R35 -> 300 | T35: 15 | U35: =T35*$H35 -> 4500
D36: สีงานไม้เครื่องหลังคา | E36: ตรม. | F36: 200 | G36: 150 | H36: =F36+G36 -> 350 | I36: 150 | J36: =I36*$H36 -> 52500 | M36: 150 | N36: =M36*$H36 -> 52500 | Q36: 200 | R36: 150 | S36: =Q36+R36 -> 350 | T36: 150 | U36: =T36*$H36 -> 52500
D37: สีประตู-หน้าต่างไม้ (วงกบ และบาน) | E37: ตรม. | F37: 300 | G37: 350 | H37: =F37+G37 -> 650 | I37: 8 | J37: =I37*$H37 -> 5200 | M37: 8 | N37: =M37*$H37 -> 5200 | Q37: 300 | R37: 350 | S37: =Q37+R37 -> 650 | T37: 8 | U37: =T37*$H37 -> 5200
C38: 1.3 | D38: งานปรับปรุงชุดประตุ-หน้าต่าง | J38: =SUM(J41:J57) -> 230000 | N38: =SUM(N41:N57) -> 144000 | U38: =SUM(U41:U57) -> 37444
D39: 1.3.1. ชุดงานอลูมีเนียมเดิม ซ่อมสภาพ เปลี่ยนอุปกรณ์
D40: - D1 ชุดงานไม้เดิม เปลี่ยนใหม่ทั้งชุด-ขยายขนาด
D41: - D2,D3 ห้องออกกำลังกาย | E41: ชุด | F41: 23000 | G41: 20000 | H41: =F41+G41 -> 43000 | I41: 2 | J41: =I41*$H41 -> 86000 | N41: =M41*$H41 -> 0
D42: - D4 ห้องแม่บ้าน | E42: ชุด | F42: 6000 | G42: 5000 | H42: =F42+G42 -> 11000 | I42: 1 | J42: =I42*$H42 -> 11000 | M42: 1 | N42: =M42*$H42 -> 11000 | Q42: 1000 | R42: 1493 | S42: =Q42+R42 -> 2493 | T42: 1 | U42: =T42*$S42 -> 2493
D43: - D5 ห้องน้ำแม่บ้าน | E43: ชุด | F43: 4000 | G43: 3000 | H43: =F43+G43 -> 7000 | I43: 1 | J43: =I43*$H43 -> 7000 | M43: 1 | N43: =M43*$H43 -> 7000 | Q43: 1000 | R43: 1494 | S43: =Q43+R43 -> 2494 | T43: 1 | U43: =T43*$S43 -> 2494
...
